BEGIN:VCALENDAR
PRODID:-//event//iCal4j 1.0//EN
CALSCALE:GREGORIAN
BEGIN:VEVENT
DTSTAMP:20260422T011510Z
DTSTART:20260219T160000Z
DTEND:20260219T180000Z
SUMMARY:20262019-aaac
LOCATION:
END:VEVENT
END:VCALENDAR
