BEGIN:VCALENDAR
PRODID:-//event//iCal4j 1.0//EN
CALSCALE:GREGORIAN
BEGIN:VEVENT
DTSTAMP:20260423T015422Z
DTSTART:20220923T143000Z
DTEND:20220923T170000Z
SUMMARY:20220923-cwac-dts
LOCATION:
END:VEVENT
END:VCALENDAR
