BEGIN:VCALENDAR
PRODID:-//event//iCal4j 1.0//EN
CALSCALE:GREGORIAN
BEGIN:VEVENT
DTSTAMP:20260423T222705Z
DTSTART:20230825T143000Z
DTEND:20230825T170000Z
SUMMARY:20230825-cwac-dts
LOCATION:
END:VEVENT
END:VCALENDAR
