BEGIN:VCALENDAR
PRODID:-//event//iCal4j 1.0//EN
CALSCALE:GREGORIAN
BEGIN:VEVENT
DTSTAMP:20260421T005540Z
DTSTART:20250213T190000Z
DTEND:20250213T200000Z
SUMMARY:20250213-mco-mcac
LOCATION:
END:VEVENT
END:VCALENDAR
