BEGIN:VCALENDAR
PRODID:-//event//iCal4j 1.0//EN
CALSCALE:GREGORIAN
BEGIN:VEVENT
DTSTAMP:20260421T013006Z
DTSTART:20250626T180000Z
DTEND:20250626T200000Z
SUMMARY:20250626-mco-mcac
LOCATION:
END:VEVENT
END:VCALENDAR
